BEGIN:VCALENDAR
VERSION:2.0
PRODID:Events Booking
BEGIN:VEVENT
UID:69e88b7de686f
SUMMARY:Shipwreckers Event: Pirates
DESCRIPTION:
LOCATION:Bryanston
DTSTART:20240703T150000Z
DTEND:20240703T200000Z
DTSTAMP:20240517T142105Z
ORGANIZER;CN=Transport Forum:MAILTO:info@transportsig.com
END:VEVENT
END:VCALENDAR