BEGIN:VCALENDAR
VERSION:2.0
PRODID:Events Booking
BEGIN:VEVENT
UID:69e92a9b9fa75
SUMMARY:Smarter Mobility Africa Summit
DESCRIPTION:
LOCATION:19 Richards Dr\, Halfway House\, Midrand\, 1685
DTSTART:20231001T060000Z
DTEND:20231003T140000Z
DTSTAMP:20230724T110040Z
ORGANIZER;CN=Transport Forum:MAILTO:info@transportsig.com
END:VEVENT
END:VCALENDAR