BEGIN:VCALENDAR
VERSION:2.0
PRODID:Events Booking
BEGIN:VEVENT
UID:69e87c7d6d321
SUMMARY:South African Heavy Haul Association (SAHHA) - Conference
DESCRIPTION:
LOCATION:64 Jones Rd\, Kempton Park\, Johannesburg\, 1620
DTSTART:20240826T060000Z
DTEND:20240829T150000Z
DTSTAMP:20231130T190955Z
ORGANIZER;CN=Transport Forum:MAILTO:info@transportsig.com
END:VEVENT
END:VCALENDAR