BEGIN:VCALENDAR
VERSION:2.0
PRODID:Events Booking
BEGIN:VEVENT
UID:69e8b0abc4ab2
SUMMARY:The 3rd African Rail Digital Congress: Cameroon
DESCRIPTION:&nbsp\;
 &nbsp\;
LOCATION:YAOUNDÉ - CAMEROON
DTSTART:20240527T060000Z
DTEND:20240530T150000Z
DTSTAMP:20240214T200945Z
ORGANIZER;CN=Transport Forum:MAILTO:info@transportsig.com
END:VEVENT
END:VCALENDAR