BEGIN:VCALENDAR
VERSION:2.0
PRODID:Events Booking
BEGIN:VEVENT
UID:69e8d407ebff3
SUMMARY:The Rise of Electric Vehicles in South Africa
DESCRIPTION:
LOCATION:Hillcrest Campus\, University of Pretoria
DTSTART:20240319T153000Z
DTEND:20240319T160000Z
DTSTAMP:20240229T094031Z
ORGANIZER;CN=Transport Forum:MAILTO:info@transportsig.com
END:VEVENT
END:VCALENDAR