BEGIN:VCALENDAR
VERSION:2.0
PRODID:Events Booking
BEGIN:VEVENT
UID:69e91b0619dc2
SUMMARY:THE SAICE CONSTRUCTION SUITE OF ENGINEERING AND CONSTRUCTION CONTRA
 CTS
DESCRIPTION:
LOCATION:Virtual
DTSTART:20231123T060000Z
DTEND:20231124T140000Z
DTSTAMP:20231031T182123Z
ORGANIZER;CN=Transport Forum:MAILTO:info@transportsig.com
END:VEVENT
END:VCALENDAR