BEGIN:VCALENDAR
VERSION:2.0
PRODID:Events Booking
BEGIN:VEVENT
UID:69e92bdb38fab
SUMMARY:Traffic Fines - New Rules: AARTO
DESCRIPTION:
LOCATION:Johannesburg
DTSTART:20231017T060000Z
DTEND:20231018T150000Z
DTSTAMP:20230927T103822Z
ORGANIZER;CN=Transport Forum:MAILTO:info@transportsig.com
END:VEVENT
END:VCALENDAR