BEGIN:VCALENDAR
VERSION:2.0
PRODID:Events Booking
BEGIN:VEVENT
UID:69e85bf75ef9d
SUMMARY:Transport Month Power Brunch
DESCRIPTION:
LOCATION:Block B
DTSTART:20241025T060000Z
DTEND:20241025T103000Z
DTSTAMP:20241010T183410Z
ORGANIZER;CN=Transport Forum:MAILTO:info@transportsig.com
GEO:102;0
X-APPLE-STRUCTURED-LOCATION;VALUE=URI;X-ADDRESS=Block B;X-APPLE-RADIUS=72;X
 -TITLE=Adcorp Place\, Woodmead:102;0
END:VEVENT
END:VCALENDAR