BEGIN:VCALENDAR
VERSION:2.0
PRODID:Events Booking
BEGIN:VEVENT
UID:69e8d15458369
SUMMARY:Transport Ticketing Global
DESCRIPTION:
LOCATION:Olympia London
DTSTART:20240305T060000Z
DTEND:20240306T150000Z
DTSTAMP:20240229T095416Z
ORGANIZER;CN=Transport Forum:MAILTO:info@transportsig.com
END:VEVENT
END:VCALENDAR