BEGIN:VCALENDAR
VERSION:2.0
PRODID:Events Booking
BEGIN:VEVENT
UID:69e8d3b41d714
SUMMARY:Understanding cargo security risks to supply chain and logistics op
 erations in Africa
DESCRIPTION:
LOCATION:64 Jones Rd\, Kempton Park\, Johannesburg\, 1620
DTSTART:20240306T060000Z
DTEND:20240306T140000Z
DTSTAMP:20240130T203259Z
ORGANIZER;CN=Transport Forum:MAILTO:info@transportsig.com
END:VEVENT
END:VCALENDAR