BEGIN:VCALENDAR
VERSION:2.0
PRODID:Events Booking
BEGIN:VEVENT
UID:69e87be28a43f
SUMMARY:Women in Maritime Summit
DESCRIPTION:
LOCATION:The Edward Hotel | North Beach\, Durban 
DTSTART:20240807T060000Z
DTEND:20240808T150000Z
DTSTAMP:20240614T163540Z
ORGANIZER;CN=Transport Forum:MAILTO:info@transportsig.com
END:VEVENT
END:VCALENDAR